BEGIN:VCALENDAR
VERSION:2.0
PRODID:icalendar-ruby
CALSCALE:GREGORIAN
METHOD:PUBLISH
BEGIN:VEVENT
DTSTAMP:20260421T233731Z
UID:9-1071786@rockbottom.tithelysetup5.com
DTSTART:20260927T170000Z
DTEND:20260927T190000Z
CLASS:PUBLIC
CREATED:20260421T152136
DESCRIPTION:Show up to grow up!\nIf you've heard of 430 Peach then most lik
 ely you have attended one of the chapels from within Fresno County. Join t
 his Christ centered service every Sunday\, 10:30am. Stumble in and ask for
  Crazy Mike or Pastor David! Let's get you plugged in!\nJesus is Lord. May
  we live like it...
LAST-MODIFIED:20260421T152136
LOCATION:430 Peach CA 93612
SUMMARY:Sunday Church Service
URL;VALUE=URI:https://rockbottom724.org/events/sunday-church-service/2026-0
 9-27
ATTACH;FILENAME=430-PEACH.jpg;FMTTYPE=image/jpeg:https://dq5pwpg1q8ru0.clou
 dfront.net/2025/09/17/23/33/52/4bffbd8d-2b7a-401d-9ac9-124d2a8d7e40/430-PE
 ACH.jpg
ATTACH;FILENAME=430-Peach-Flyer-UPDATED.png;FMTTYPE=image/png:https://dq5pw
 pg1q8ru0.cloudfront.net/2025/06/16/16/23/39/b640b43b-a3be-42fc-a1de-7a3b79
 ae2321/430-Peach-Flyer-UPDATED.png
ATTACH;FILENAME=Discipleship-Hour.png;FMTTYPE=image/png:https://dq5pwpg1q8r
 u0.cloudfront.net/2024/03/19/17/07/20/621df102-7930-46d9-ab89-71ee5dfd5098
 /Discipleship-Hour.png
END:VEVENT
END:VCALENDAR
